BEGIN:VCALENDAR
VERSION:2.0
PRODID:Events Booking
BEGIN:VEVENT
UID:69e74fdabafe3
SUMMARY:Jubilation
DESCRIPTION:Register early and get a special discount. Limited availability
 .
DTSTART:20230409T210000Z
DTEND:20230410T010000Z
DTSTAMP:20220409T235341Z
ORGANIZER:MAILTO:kent@soulofvirginia.com
END:VEVENT
END:VCALENDAR